BEGIN:VCALENDAR
VERSION:2.0
PRODID:-//eventon.com NONSGML v1.0//EN
CALSCALE:GREGORIAN
METHOD:PUBLISH
BEGIN:VEVENT
UID:69e908fb0a297
DTSTAMP:20260422T174427Z
DTSTART:20251111T193000Z
DTEND:20251111T213000Z
LOCATION:Auditorium Theatre 50 East Ida B. Wells Drive Chicago\,  IL 60605
SUMMARY:Tortoise with the Chicago Philharmonic
DESCRIPTION:Tortoise with the Chicago Philharmonic Nov 11\,  2025 | 7:30 PM
  | The Auditorium — Chicago\,  IL   About the Show: Chicago’s pioneeri
 ng\,  genre-defying indie band\,  Tortoise is set to play a series of speci
 al concerts this fall\,  including a unique hometown show with the Chicago 
 Philharmonic at The Auditorium[..]\nhttps://chicagophilharmonic.org/events/
 tortoise/
URL:https://chicagophilharmonic.org/events/tortoise/
END:VEVENT
END:VCALENDAR