BEGIN:VCALENDAR
VERSION:2.0
PRODID:-//eventon.com NONSGML v1.0//EN
CALSCALE:GREGORIAN
METHOD:PUBLISH
BEGIN:VEVENT
UID:69e91557f315e
DTSTAMP:20260422T183711Z
DTSTART:20251106T193000Z
DTEND:20251109T143000Z
LOCATION:Harris Theater for Music and Dance 205 E Randolph Street Chicago\,  IL 60601
SUMMARY:Joffrey at the Harris: Matters of the Heart
DESCRIPTION:Joffrey at the Harris: Matters of the Heart ㅤ Presented by Th
 e Joffrey Ballet Featuring the Chicago Philharmonic Nov 6–9\,  2025 | Har
 ris Theater for Music and Dance Performance Times:Thu\,  Nov 6 at 7:30 PMFr
 i\,  Nov 7 at 7:30 PMSat\,  Nov 8 at 2:00 PM &amp; 7:30 PMSun\,  Nov 9[..]\
 nhttps://chicagophilharmonic.org/events/joffrey-matters-of-the-heart/
URL:https://chicagophilharmonic.org/events/joffrey-matters-of-the-heart/
END:VEVENT
END:VCALENDAR