BEGIN:VCALENDAR
VERSION:2.0
PRODID:-//eventon.com NONSGML v1.0//EN
CALSCALE:GREGORIAN
METHOD:PUBLISH
BEGIN:VEVENT
UID:69ea4f4b49609
DTSTAMP:20260423T165643Z
DTSTART:20251130T013000Z
DTEND:20251130T040000Z
LOCATION:The Auditorium 50 East Ida B. Wells Drive Chicago\,  IL 60605
SUMMARY:Sleeping At Last
DESCRIPTION:Chicago Philharmonic Presents&#8230; Sleeping At Last Home for 
 the Holidays With the Chicago Chamber Choir Conducted by Artistic Director 
 &amp; Principal Conductor\,  Scott Speck Saturday\,  November 29\,  2025 | 
 7:30 PM The Auditorium\,  Chicago’s Landmark Stage® Following their accl
 aimed collaboration and a sold-out World Premiere tour in 2024\,  Sleeping 
 At[..]\nhttps://chicagophilharmonic.org/events/home-for-the-holidays/
URL:https://chicagophilharmonic.org/events/home-for-the-holidays/
END:VEVENT
END:VCALENDAR