BEGIN:VCALENDAR
VERSION:2.0
PRODID:-//eventon.com NONSGML v1.0//EN
CALSCALE:GREGORIAN
METHOD:PUBLISH
BEGIN:VEVENT
UID:69ea6876d3709
DTSTAMP:20260423T184406Z
DTSTART:20250627T003000Z
DTEND:20250627T030000Z
LOCATION:Ravinia Festival 418 Sheridan Rd Highland Park\,  IL 60035
SUMMARY:Lindsey Stirling with Chicago Philharmonic
DESCRIPTION:Lindsey Stirling with Chicago Philharmonic &nbsp; Tickets on sa
 le April 24 only at ravinia.org. &nbsp; About the Performance: Captivating 
 audiences worldwide with her innovative flair\,  Lindsey Stirling is an Ame
 rican violinist\,  dancer\,  and songwriter whose genre-defying talents ble
 nd original music\,  hip-hop\,  pop\,  and classical sounds. She burst onto
  the scene[..]\nhttps://chicagophilharmonic.org/events/lindsey-stirling-wit
 h-chicago-philharmonic/
URL:https://chicagophilharmonic.org/events/lindsey-stirling-with-chicago-philharmonic/
END:VEVENT
END:VCALENDAR