BEGIN:VCALENDAR
VERSION:2.0
PRODID:-//eventon.com NONSGML v1.0//EN
CALSCALE:GREGORIAN
METHOD:PUBLISH
BEGIN:VEVENT
UID:69ea4713edf47
DTSTAMP:20260423T162139Z
DTSTART:20250830T003000Z
DTEND:20250830T033000Z
LOCATION:Ravinia Festival 418 Sheridan Rd Highland Park\,  IL 60035
SUMMARY:Marvel’s Infinity Saga in Concert with the Chicago Philharmonic
DESCRIPTION:Marvel’s Infinity Saga in Concert with the Chicago Philharmon
 ic &nbsp; Performers: Chicago Philharmonic Guest Conductor\,  Anthony Parnt
 her &nbsp; Tickets on sale April 24 only at ravinia.org. &nbsp; About the P
 erformance Experience the thrill of Marvel Studios in concert as Anthony Pa
 rnther leads the Chicago Philharmonic in an epic celebration of[..]\nhttps:
 //chicagophilharmonic.org/events/marvel-infinity-saga-chicago-phil/
URL:https://chicagophilharmonic.org/events/marvel-infinity-saga-chicago-phil/
END:VEVENT
END:VCALENDAR