BEGIN:VCALENDAR
VERSION:2.0
PRODID:-//eventon.com NONSGML v1.0//EN
CALSCALE:GREGORIAN
METHOD:PUBLISH
BEGIN:VEVENT
UID:69ea4cf510c1f
DTSTAMP:20260423T164645Z
DTSTART:20250703T003000Z
DTEND:20250703T030000Z
LOCATION:Ravinia Festival 418 Sheridan Rd Highland Park\,  IL 60035
SUMMARY:Nas with the Chicago Philharmonic
DESCRIPTION:Nas with the Chicago Philharmonic Experience hip-hop history re
 imagined as Nas makes his Ravinia debut\,  joining forces with the Chicago 
 Philharmonic for a powerful symphonic performance of his groundbreaking deb
 ut album\,  Illmatic. More than three decades after its release\,  this ge
 nre-defining masterpiece—ranked by Billboard as the #1 Greatest Rap Alb
 um of All Time—takes[..]\nhttps://chicagophilharmonic.org/events/nas-with
 -the-chicago-philharmonic/
URL:https://chicagophilharmonic.org/events/nas-with-the-chicago-philharmonic/
END:VEVENT
END:VCALENDAR