BEGIN:VCALENDAR
VERSION:2.0
PRODID:-//eventon.com NONSGML v1.0//EN
CALSCALE:GREGORIAN
METHOD:PUBLISH
BEGIN:VEVENT
UID:69ea68772899c
DTSTAMP:20260423T184407Z
DTSTART:20250417T230000Z
DTEND:20250418T000000Z
LOCATION:Murphy Auditorium 50 E Erie St\,  Chicago\,  IL 60611
SUMMARY:Chicago Philharmonic Presents Artist in Residence Njioma Grevious
DESCRIPTION:Chicago Philharmonic Presents Artist in Residence Njioma Grevio
 us Njioma Chinyere Grevious\,  Violinist Chamber Musicians of the Chicago P
 hilharmonic Scott Speck\,  Principal Conductor &amp; Artistic Director Date
 : Thursday April 17th Time: 6:00-7:00 PM Venue: Murphy Auditorium &#8211; C
 hicago\,  IL &nbsp; Get tickets! &nbsp; This concert is free! Registration 
 is required. A[..]\nhttps://chicagophilharmonic.org/events/artist-in-reside
 nce-2025/
URL:https://chicagophilharmonic.org/events/artist-in-residence-2025/
END:VEVENT
END:VCALENDAR