BEGIN:VCALENDAR
VERSION:2.0
PRODID:-//eventon.com NONSGML v1.0//EN
CALSCALE:GREGORIAN
METHOD:PUBLISH
BEGIN:VEVENT
UID:69e7ab44a8257
DTSTAMP:20260421T165220Z
DTSTART:20250201T220000Z
DTEND:20250202T000000Z
LOCATION:Harris Theater for Music and Dance 205 E Randolph Street Chicago\,  IL 60601
SUMMARY:Chinese New Year Showcase: Year of the Snake
DESCRIPTION:Chinese New Year Showcase: Year of the Snake ㅤ Date: Saturday
 \,  February 1\,  2025 Time: 4:00 PM (Concert attendees must arrive by 3:45
  PM.) Venue: Harris Theater for Music and Dance &#8211; Chicago\,  IL Admis
 sion: Free! (Reservation required.) The Chicago Philharmonic and the Consul
 ate General of the People&#8217;s Republic of[..]\nhttps://chicagophilharmo
 nic.org/events/chinese-new-year-showcase/
URL:https://chicagophilharmonic.org/events/chinese-new-year-showcase/
END:VEVENT
END:VCALENDAR