BEGIN:VCALENDAR
VERSION:2.0
PRODID:-//eventon.com NONSGML v1.0//EN
CALSCALE:GREGORIAN
METHOD:PUBLISH
BEGIN:VEVENT
UID:69eae6235c31a
DTSTAMP:20260424T034019Z
DTSTART:20250314T193000Z
DTEND:20250314T220000Z
LOCATION:Auditorium Theatre 50 East Ida B. Wells Drive Chicago\,  IL 60605
SUMMARY:Gregory Alan Isakov with the Chicago Philharmonic
DESCRIPTION:Gregory Alan Isakov with the Chicago Philharmonic Venue: The Au
 ditorium  Date: March 14\,  2025   Time: 7:30 PM  Gregory Alan Isakov C
 hristopher Dragon\,  Conductor Chicago Philharmonic $1 from the sale of eac
 h ticket purchased will be donated to the Greater Chicago Food Depository\,
   who are providing food for those in need[..]\nhttps://chicagophilharmonic
 .org/events/gregory-alan-isakov-with-the-chicago-philharmonic-2/
URL:https://chicagophilharmonic.org/events/gregory-alan-isakov-with-the-chicago-philharmonic-2/
END:VEVENT
END:VCALENDAR