BEGIN:VCALENDAR
VERSION:2.0
PRODID:-//eventon.com NONSGML v1.0//EN
CALSCALE:GREGORIAN
METHOD:PUBLISH
BEGIN:VEVENT
UID:69e59dc03183c
DTSTAMP:20260420T033008Z
DTSTART:20241120T193000Z
DTEND:20241120T220000Z
LOCATION:Auditorium Theatre 50 East Ida B. Wells Drive Chicago\,  IL 60605
SUMMARY:Amos Lee with The Chicago Philharmonic
DESCRIPTION:Amos Lee with The Chicago Philharmonic Venue: Auditorium Theatr
 e &nbsp; On his eleventh studio album\,  Transmissions\,  singer-songwriter
  Amos Lee continues to expand his sonic range while sharpening his closely 
 observed lyrics that squarely address death\,  aging\,  and love. The force
  behind such acclaimed albums as Mission Bell and Mountains of[..]\nhttps:/
 /chicagophilharmonic.org/events/amos-lee/
URL:https://chicagophilharmonic.org/events/amos-lee/
END:VEVENT
END:VCALENDAR