BEGIN:VCALENDAR
VERSION:2.0
PRODID:-//eventon.com NONSGML v1.0//EN
CALSCALE:GREGORIAN
METHOD:PUBLISH
BEGIN:VEVENT
UID:69ea8f4318da7
DTSTAMP:20260423T212939Z
DTSTART:20241025T010000Z
DTEND:20241025T030000Z
LOCATION:Stern Auditorium / Perelman Stage at Carnegie Hall 57th Street and 7th Avenue\,  New York\,  NY 10019
SUMMARY:Chicago Philharmonic Presents An Evening With Sleeping At Last
DESCRIPTION:Chicago Philharmonic Presents An Evening With Sleeping At Last 
 &nbsp; Chicago Philharmonic takes on New York City! The Chicago Philharmoni
 c celebrates 35 seasons with its debut at Stern Auditorium / Perelman Stage
  at Carnegie Hall and a historic collaboration with hit artist Sleeping At 
 Last. With over 3.3 billion streams[..]\nhttps://chicagophilharmonic.org/ev
 ents/chicago-phil-carnegie-hall-debut/
URL:https://chicagophilharmonic.org/events/chicago-phil-carnegie-hall-debut/
END:VEVENT
END:VCALENDAR