BEGIN:VCALENDAR
VERSION:2.0
PRODID:-//eventon.com NONSGML v1.0//EN
CALSCALE:GREGORIAN
METHOD:PUBLISH
BEGIN:VEVENT
UID:69ea49b280804
DTSTAMP:20260423T163250Z
DTSTART:20240802T234500Z
DTEND:20240803T004500Z
LOCATION:Grant Park - Bud Light Stage 535 Michigan Ave\,  Chicago\,  IL 60605
SUMMARY:LOLLAPALOOZA: Laufey with the Chicago Philharmonic
DESCRIPTION:Laufey with the Chicago Philharmonic LOLLAPALOOZA DEBUT! Friday
 \,  August 2\,  2024 6:45pm &#8211; 7:45pm Bud Light Stage Grant Park This 
 August\,  your Chicago Philharmonic makes its Lollapalooza debut. As the fi
 rst professional orchestra to ever grace a Lollapalooza stage\,  we&#8217;r
 e thrilled (bewitched even!) to accompany the multi-talented\,  Grammy Awar
 d-winning artist\, [..]\nhttps://chicagophilharmonic.org/events/lollapalooz
 a-laufey/
URL:https://chicagophilharmonic.org/events/lollapalooza-laufey/
END:VEVENT
END:VCALENDAR