BEGIN:VCALENDAR
VERSION:2.0
PRODID:-//eventon.com NONSGML v1.0//EN
CALSCALE:GREGORIAN
METHOD:PUBLISH
BEGIN:VEVENT
UID:69e8f185634c9
DTSTAMP:20260422T160421Z
DTSTART:20240727T160000Z
DTEND:20240727T180000Z
LOCATION:Ravinia Festival - Bennett Gordon Hall 201 St Johns Ave\,  Highland Park\,  IL 60035
SUMMARY:Dan Brown’s Wild Symphony
DESCRIPTION:Chicago Philharmonic performs Dan Brown’s Wild Symphony Venue
 : Bennett Gordon Hall Part of: Kids Concert Series Gates Open: 10:00 AM Con
 cert Starts: 11:00 AM As the Kids Concert Series continues\,  the Chicago P
 hilharmonic performs Dan Brown&#8217;s Wild Symphony. The hit concert prese
 ntation and picture book is from the mind of[..]\nhttps://chicagophilharmon
 ic.org/events/dan-browns-wild-symphony/
URL:https://chicagophilharmonic.org/events/dan-browns-wild-symphony/
END:VEVENT
END:VCALENDAR