BEGIN:VCALENDAR
VERSION:2.0
PRODID:-//eventon.com NONSGML v1.0//EN
CALSCALE:GREGORIAN
METHOD:PUBLISH
BEGIN:VEVENT
UID:69e5a2eca9550
DTSTAMP:20260420T035212Z
DTSTART:20241013T003000Z
DTEND:20241013T030000Z
LOCATION:Harris Theater for Music and Dance 205 E Randolph Street Chicago\,  IL 60601
SUMMARY:Chicago Philharmonic presents an evening with Sleeping At Last
DESCRIPTION:SOLD OUT &nbsp; EXCLUSIVE WORLD PREMIERE: Chicago Philharmonic 
 Presents An Evening With Sleeping At Last 📅 Date: Friday\,  October 12\,
   2024 📍 Venue: Harris Theater for Music and Dance ⏰ Time: 7:30 PM Get
  ready for a special World Premiere experience as Sleeping At Last\,  the m
 astermind behind soul-stirring melodies[..]\nhttps://chicagophilharmonic.or
 g/events/sleeping-at-last/
URL:https://chicagophilharmonic.org/events/sleeping-at-last/
END:VEVENT
END:VCALENDAR