BEGIN:VCALENDAR
VERSION:2.0
PRODID:-//eventon.com NONSGML v1.0//EN
CALSCALE:GREGORIAN
METHOD:PUBLISH
BEGIN:VEVENT
UID:69e8da155fe5e
DTSTAMP:20260422T142421Z
DTSTART:20230723T190000Z
DTEND:20230723T213000Z
LOCATION:Ravinia Festival - Bennett Gordon Hall 201 St Johns Ave\,  Highland Park\,  IL 60035
SUMMARY:Chicago Philharmonic at Ravinia's 2023 Breaking Barriers Festival
DESCRIPTION:On Sunday\,  July 23rd\,  Chicago Philharmonic will be a part o
 f Ravinia&#8217;s Breaking Barriers workshop: “Premiering New Works” 
  Observe Conductors &amp; Composers in a Collaborative Workshop 2:00–4:3
 0 pm in Bennett Gordon Hall Ravinia&#8217;s Inaugural Breaking Barriers Fes
 tival celebrates women composers—classical and jazz artists as well as si
 nger-songwriters—who are featured[..]\nhttps://chicagophilharmonic.org/ev
 ents/2023-breaking-barriers/
URL:https://chicagophilharmonic.org/events/2023-breaking-barriers/
END:VEVENT
END:VCALENDAR