BEGIN:VCALENDAR
VERSION:2.0
PRODID:-//eventon.com NONSGML v1.0//EN
CALSCALE:GREGORIAN
METHOD:PUBLISH
BEGIN:VEVENT
UID:69eba05a8f77c
DTSTAMP:20260424T165450Z
DTSTART:20230909T230000Z
DTEND:20230910T020000Z
LOCATION:Jay Pritzker Pavilion 201 E Randolph St\,  Chicago\,  IL 60601
SUMMARY:Harris Fest: Music + Dance in the Park
DESCRIPTION:Chicago Philharmonic Kalena Bovell Conductor Njioma Chinyere Gr
 evious Violin Sleeping At Last (Ryan O&#8217;Neal) Vocals and Piano &nbsp
 ; This September\,  Chicago Philharmonic celebrates the start of its ninth 
 season as a Harris Theater Resident Company at the Harris Theater&#8217;s 2
 0th Anniversary concert! In a FREE concert at Millennium Park\,  experience
  an exclusive[..]\nhttps://chicagophilharmonic.org/events/harris-fest/
URL:https://chicagophilharmonic.org/events/harris-fest/
END:VEVENT
END:VCALENDAR