BEGIN:VCALENDAR
VERSION:2.0
PRODID:-//eventon.com NONSGML v1.0//EN
CALSCALE:GREGORIAN
METHOD:PUBLISH
BEGIN:VEVENT
UID:69eab14c5590d
DTSTAMP:20260423T235452Z
DTSTART:20231029T010000Z
DTEND:20231029T030000Z
LOCATION:Auditorium Theatre 50 East Ida B. Wells Drive Chicago\,  IL 60605
SUMMARY:Sonic Symphony
DESCRIPTION:Get ready to run down memory lane at Sonic speed! &nbsp; Sonic 
 Symphony is an immersive live experience that celebrates more than three de
 cades of music from SEGA’s iconic mascot. From the classic 8-bit and 16-b
 it tunes to rock bands and EDM\,  this concert will take you on a musical[.
 .]\nhttps://chicagophilharmonic.org/events/sonic-symphony/
URL:https://chicagophilharmonic.org/events/sonic-symphony/
END:VEVENT
END:VCALENDAR