BEGIN:VCALENDAR
VERSION:2.0
PRODID:-//eventon.com NONSGML v1.0//EN
CALSCALE:GREGORIAN
METHOD:PUBLISH
BEGIN:VEVENT
UID:69eab1e3a9b30
DTSTAMP:20260423T235723Z
DTSTART:20230622T220000Z
DTEND:20230622T230000Z
LOCATION:Jefferson Thomas Park 1709 S. Des Plaines St.\,  Chicago\,  IL 60616
SUMMARY:CHICAGO PHIL CHAMBER: Jefferson Thomas Park
DESCRIPTION:CHICAGO PHIL CHAMBER Jefferson Thomas Park Thursday\,  June 22\
 ,  2023 Concert Time: 5:00pm-6:00pm Kate Carter Violin Louise Chan Piano Wh
 at is Chicago Phil Chamber? Chicago Phil Chamber\,  presented through the C
 hicago Park District’s “Night Out in the Parks” initiative\,  brings 
 free chamber concerts to Chicago parks in local communities in[..]\nhttps:/
 /chicagophilharmonic.org/events/chi-phil-chamber-jefferson-park/
URL:https://chicagophilharmonic.org/events/chi-phil-chamber-jefferson-park/
END:VEVENT
END:VCALENDAR