BEGIN:VCALENDAR
VERSION:2.0
PRODID:-//eventon.com NONSGML v1.0//EN
CALSCALE:GREGORIAN
METHOD:PUBLISH
BEGIN:VEVENT
UID:69e5ea428e43d
DTSTAMP:20260420T085634Z
DTSTART:20230615T220000Z
DTEND:20230615T230000Z
LOCATION:Williams (Daniel Hale) Park 2820 S. State St.\,  Chicago\,  IL 60616
SUMMARY:CHICAGO PHIL CHAMBER: Williams Park
DESCRIPTION:CHICAGO PHIL CHAMBER Williams Park Thursday\,  June 15\,  2023 
 Concert Time: 5:00pm-6:00pm &nbsp; Chicago Philharmonic String Quartet Wei 
 Liu Denton Cello Helen Kim Violin Rika Seko Violin Rebecca Swan Viola What 
 is Chicago Phil Chamber? Chicago Phil Chamber\,  presented through the Chic
 ago Park District’s “Night Out in the Parks” initiative\, [..]\nhttps
 ://chicagophilharmonic.org/events/chicago-phil-chamber-williams-park/
URL:https://chicagophilharmonic.org/events/chicago-phil-chamber-williams-park/
END:VEVENT
END:VCALENDAR