BEGIN:VCALENDAR
VERSION:2.0
PRODID:-//eventon.com NONSGML v1.0//EN
CALSCALE:GREGORIAN
METHOD:PUBLISH
BEGIN:VEVENT
UID:69e8dc68b023b
DTSTAMP:20260422T143416Z
DTSTART:20230715T230000Z
DTEND:20230716T000000Z
LOCATION:Ping Tom Memorial Park 300 West 19th St. Chicago\,  IL 60605
SUMMARY:SIDE BY SIDE: Ping Tom Memorial Park
DESCRIPTION:SIDE BY SIDE with the Chicago Philharmonic! Ping Tom Memorial P
 ark Saturday\,  July 15\,  2023 Rehearsal: 3:00-5:00pm Concert: 6:00pm Chic
 ago Philharmonic Scott Speck\,  Artistic Director &amp; Principal Conductor
  And YOU! Chicago Philharmonic presents the ninth year of its signature com
 munity engagement program\,  Side by Side with the Chicago Philharmonic\,  
 presented[..]\nhttps://chicagophilharmonic.org/events/side-by-side-2023/
URL:https://chicagophilharmonic.org/events/side-by-side-2023/
END:VEVENT
END:VCALENDAR