BEGIN:VCALENDAR
VERSION:2.0
PRODID:-//eventon.com NONSGML v1.0//EN
CALSCALE:GREGORIAN
METHOD:PUBLISH
BEGIN:VEVENT
UID:69e8dc227e924
DTSTAMP:20260422T143306Z
DTSTART:20230830T000000Z
DTEND:20230830T030000Z
LOCATION:Ravinia Festival 418 Sheridan Rd Highland Park\,  IL 60035
SUMMARY:Jurassic Park in Concert
DESCRIPTION:Chicago Philharmonic Scott Terrell Conductor Buy tickets to Jur
 assic Park in Concert Relive the magic of Jurassic Park on the big screen a
 nd celebrate its 30th Anniversary with a thrilling performance of John Will
 iams&#8217; iconic score by Chicago Philharmonic. The action-packed adventu
 re pits man against prehistoric predators in the ultimate[..]\nhttps://chic
 agophilharmonic.org/events/jurassic-park/
URL:https://chicagophilharmonic.org/events/jurassic-park/
END:VEVENT
END:VCALENDAR