BEGIN:VCALENDAR
VERSION:2.0
PRODID:-//eventon.com NONSGML v1.0//EN
CALSCALE:GREGORIAN
METHOD:PUBLISH
BEGIN:VEVENT
UID:69eab22718f89
DTSTAMP:20260423T235831Z
DTSTART:20231015T003000Z
DTEND:20231015T030000Z
LOCATION:Harris Theater 205 E Randolph Street Chicago\,  IL 60601
SUMMARY:Chicago Philharmonic Presents Aria Masterpieces with Ryan Speedo Green
DESCRIPTION:Chicago Philharmonic Scott Speck Conductor Ryan Speedo Green B
 ass-baritone Secure your tickets now. Chicago Philharmonic and Artistic D
 irector &amp; Principal Conductor Scott Speck are thrilled to welcome two-t
 ime Grammy Award winning bass-baritone Ryan Speedo Green. In an epoch-spann
 ing concert performance\,  Green sings selections from opera and musical ma
 sterworks with Chicago’s dynamic\,  musician-led orchestra[..]\nhttps://c
 hicagophilharmonic.org/events/ryan-speedo-green/
URL:https://chicagophilharmonic.org/events/ryan-speedo-green/
END:VEVENT
END:VCALENDAR