BEGIN:VCALENDAR
VERSION:2.0
PRODID:-//eventon.com NONSGML v1.0//EN
CALSCALE:GREGORIAN
METHOD:PUBLISH
BEGIN:VEVENT
UID:69eab13763aa4
DTSTAMP:20260423T235431Z
DTSTART:20231001T003000Z
DTEND:20231001T033000Z
LOCATION:Auditorium Theatre 50 East Ida B. Wells Drive Chicago\,  IL 60605
SUMMARY:Tank and the Bangas Ft. Chicago Philharmonic
DESCRIPTION:Grammy-nominated in 2020 as “Best New Artist\, ” New Orlean
 s-based Tank and The Bangas are quickly gaining wide acclaim with an incred
 ibly uncategorical soulful mixture of R&amp;B\,  hip-hop and spoken-word th
 at’s fused into an atomically combustible energetic live performance. Led
  by the incomparable Tarriona “Tank” Ball\,  Tank and The Bangas is[..]
 \nhttps://chicagophilharmonic.org/events/tankandthebangas/
URL:https://chicagophilharmonic.org/events/tankandthebangas/
END:VEVENT
END:VCALENDAR