BEGIN:VCALENDAR
VERSION:2.0
PRODID:-//eventon.com NONSGML v1.0//EN
CALSCALE:GREGORIAN
METHOD:PUBLISH
BEGIN:VEVENT
UID:69ea46671f252
DTSTAMP:20260423T161847Z
DTSTART:20221126T020000Z
DTEND:20221126T043000Z
LOCATION:Auditorium Theatre 50 East Ida B. Wells Drive Chicago\,  IL 60605
SUMMARY:The Music of Queen
DESCRIPTION:Friday\,  November 25\,  8PM Auditorium Theatre Chicago Philhar
 monic Brent Havens\,  Conductor Mig Ayesa\,  Vocalist Learn more and buy ti
 ckets The performance will feature many of the Queen&#8217;s most popular s
 ongs including “Bohemian Rhapsody\, ” “Another One Bites the Dust\, 
  and “Somebody to Love!&#8217;\nhttps://chicagophilharmonic.org/events/
 the-music-of-queen/
URL:https://chicagophilharmonic.org/events/the-music-of-queen/
END:VEVENT
END:VCALENDAR