BEGIN:VCALENDAR
VERSION:2.0
PRODID:-//eventon.com NONSGML v1.0//EN
CALSCALE:GREGORIAN
METHOD:PUBLISH
BEGIN:VEVENT
UID:69ec28d6e1d55
DTSTAMP:20260425T023710Z
DTSTART:20220619T003000Z
DTEND:20220619T030000Z
LOCATION:
SUMMARY:Marvel Studios' Black Panther in Concert
DESCRIPTION:In 2018\,  Marvel Studios’ “Black Panther” quickly became
  a global sensation and cultural phenomenon\,  showing a new dimension of w
 hat Super Hero films could be. Rolling Stone raved\,  “The film lights up
  the screen with a full-throttle blast of action and fun. That’s to be ex
 pected. But what sneaks up[..]\nhttps://chicagophilharmonic.org/events/marv
 el-studios-black-panther-in-concert/
URL:https://chicagophilharmonic.org/events/marvel-studios-black-panther-in-concert/
END:VEVENT
END:VCALENDAR