BEGIN:VCALENDAR
VERSION:2.0
PRODID:-//eventon.com NONSGML v1.0//EN
CALSCALE:GREGORIAN
METHOD:PUBLISH
BEGIN:VEVENT
UID:69e73be6cc4ae
DTSTAMP:20260421T085710Z
DTSTART:20211121T210000Z
DTEND:20211121T230000Z
LOCATION:
SUMMARY:Simply Serenades
DESCRIPTION:Enjoy stunning serenades from two of the great masters of the f
 orm\,  alongside a world premiere from Composer in Residence Jonathan Bingh
 am! Johannes Brahms’ Serenade No. 2 contains the unmistakable warmth\,  g
 race\,  and meticulousness that defined the composer’s canon. The bright\
 ,  inventive\,  Czech-inspired melodies in Antonin Dvorak’s Serenade for 
 winds\, [..]\nhttps://chicagophilharmonic.org/events/simply-serenades/
URL:https://chicagophilharmonic.org/events/simply-serenades/
END:VEVENT
END:VCALENDAR