BEGIN:VCALENDAR
VERSION:2.0
PRODID:-//eventon.com NONSGML v1.0//EN
CALSCALE:GREGORIAN
METHOD:PUBLISH
BEGIN:VEVENT
UID:69ecf0816068e
DTSTAMP:20260425T164905Z
DTSTART:20190822T220000Z
DTEND:20190823T010000Z
LOCATION:
SUMMARY:Ravinia Festival: Trouble in Tahiti
DESCRIPTION:Bernstein&#8217;s Trouble In Tahiti Chicago Philharmonic Marin 
 Alsop\,  conductor and director Patricia Racette\,  soprano (Dinah) Paulo S
 zot\,  baritone (Sam) Michelle Areyzaga\,  soprano (Trio) Nils Nilsen\,  t
 enor (Trio) Nathaniel Olson\,  baritone (Trio) Rachel Tobias\,  stage manag
 er Martin Theatre Thursday\,  August 22\,  2019 3:30 PM Donor Gates Open 4:
 00 PM Public Gates Open[..]\nhttps://chicagophilharmonic.org/events/ravinia
 -festival-trouble-in-tahiti/
URL:https://chicagophilharmonic.org/events/ravinia-festival-trouble-in-tahiti/
END:VEVENT
END:VCALENDAR