BEGIN:VCALENDAR
VERSION:2.0
PRODID:-//eventon.com NONSGML v1.0//EN
CALSCALE:GREGORIAN
METHOD:PUBLISH
BEGIN:VEVENT
UID:69e75a7c8c12f
DTSTAMP:20260421T110740Z
DTSTART:20181216T220000Z
DTEND:20181216T230000Z
LOCATION:
SUMMARY:Side by Side with the Chicago Philharmonic at South Shore Cultural Center
DESCRIPTION:This program\,  presented through the Chicago Park District’s
  “Night Out in the Parks” initiative\,  brings side-by-side symphonic c
 oncerts to Chicago parks in local communities. Students and community memb
 ers are invited to bring their instruments and collaborate with Chicago Phi
 lharmonic musicians in rehearsing and performing free concerts for members 
 of the community[..]\nhttps://chicagophilharmonic.org/events/side-by-side-w
 ith-the-chicago-philharmonic-at-south-shore-cultural-center/
URL:https://chicagophilharmonic.org/events/side-by-side-with-the-chicago-philharmonic-at-south-shore-cultural-center/
END:VEVENT
END:VCALENDAR