BEGIN:VCALENDAR
VERSION:2.0
PRODID:-//eventon.com NONSGML v1.0//EN
CALSCALE:GREGORIAN
METHOD:PUBLISH
BEGIN:VEVENT
UID:69e73b8347b97
DTSTAMP:20260421T085531Z
DTSTART:20180818T200000Z
DTEND:20180819T000000Z
LOCATION:
SUMMARY:Side by Side with the Chicago Philharmonic at Columbus Park
DESCRIPTION:Student and community musicians join the Chicago Philharmonic i
 n rehearsing and performing a free concert at Columbus Park Refectory as pa
 rt of Chicago Park District’s Night Out in the Parks program. Sunday\,  A
 ugust 5 Columbus Park Refectory 5701 W Jackson Blvd 3:00 PM – 5:00 PM –
  side-by-side rehearsal 6:00[..]\nhttps://chicagophilharmonic.org/events/si
 de-by-side-with-the-chicago-philharmonic-at-columbus-park/
URL:https://chicagophilharmonic.org/events/side-by-side-with-the-chicago-philharmonic-at-columbus-park/
END:VEVENT
END:VCALENDAR