BEGIN:VCALENDAR
VERSION:2.0
PRODID:-//eventon.com NONSGML v1.0//EN
CALSCALE:GREGORIAN
METHOD:PUBLISH
BEGIN:VEVENT
UID:69ea430b4f6bc
DTSTAMP:20260423T160427Z
DTSTART:20181111T193000Z
DTEND:20181111T210000Z
LOCATION:
SUMMARY:Celebrate Polonia
DESCRIPTION:Paderewski Piano Concerto Chopin Andante spianato et grand
 e polonaise brilliante Szymanowski Concert Overture Panufnik Tragic Ove
 rture  Scott Speck conductor �ukasz Krupi�ski piano  Celebrate the
  heroes of Polish classical music at the Chicago Philharmonic Festival: Pol
 and 2018 as Polish pianist �ukasz Krupi�ski joins Chi Phil. Pre-concert
  entertainment from the Lira Ensemble singers 6:30-7:00pm\nhttps://chicagop
 hilharmonic.org/events/celebrate-polonia/
URL:https://chicagophilharmonic.org/events/celebrate-polonia/
END:VEVENT
END:VCALENDAR